BEGIN:VCALENDAR
VERSION:2.0
PRODID:-//Harvest Point Church - ECPv6.15.20//NONSGML v1.0//EN
CALSCALE:GREGORIAN
METHOD:PUBLISH
X-ORIGINAL-URL:http://hpcnac.org
X-WR-CALDESC:Events for Harvest Point Church
REFRESH-INTERVAL;VALUE=DURATION:PT1H
X-Robots-Tag:noindex
X-PUBLISHED-TTL:PT1H
BEGIN:VTIMEZONE
TZID:America/Chicago
BEGIN:DAYLIGHT
TZOFFSETFROM:-0600
TZOFFSETTO:-0500
TZNAME:CDT
DTSTART:20250309T080000
END:DAYLIGHT
BEGIN:STANDARD
TZOFFSETFROM:-0500
TZOFFSETTO:-0600
TZNAME:CST
DTSTART:20251102T070000
END:STANDARD
BEGIN:DAYLIGHT
TZOFFSETFROM:-0600
TZOFFSETTO:-0500
TZNAME:CDT
DTSTART:20260308T080000
END:DAYLIGHT
BEGIN:STANDARD
TZOFFSETFROM:-0500
TZOFFSETTO:-0600
TZNAME:CST
DTSTART:20261101T070000
END:STANDARD
BEGIN:DAYLIGHT
TZOFFSETFROM:-0600
TZOFFSETTO:-0500
TZNAME:CDT
DTSTART:20270314T080000
END:DAYLIGHT
BEGIN:STANDARD
TZOFFSETFROM:-0500
TZOFFSETTO:-0600
TZNAME:CST
DTSTART:20271107T070000
END:STANDARD
END:VTIMEZONE
BEGIN:VEVENT
DTSTART;TZID=America/Chicago:20260107T183000
DTEND;TZID=America/Chicago:20260107T200000
DTSTAMP:20260420T235504
CREATED:20250729T144508Z
LAST-MODIFIED:20250729T144509Z
UID:11426-1767810600-1767816000@hpcnac.org
SUMMARY:Mid-Week Wednesday
DESCRIPTION:There is something for everyone on Wednesday evenings. Awana Clubs are for ages 3 through 5th grade and meet in the Education wing. HPC Students\, grades 6th through 12th gather at the Point. And adults meet in the Parlor for Bible study and prayer.
URL:http://hpcnac.org/event/mid-week-wednesday-28/
END:VEVENT
BEGIN:VEVENT
DTSTART;TZID=America/Chicago:20260114T183000
DTEND;TZID=America/Chicago:20260114T200000
DTSTAMP:20260420T235504
CREATED:20250729T144540Z
LAST-MODIFIED:20250729T144541Z
UID:11428-1768415400-1768420800@hpcnac.org
SUMMARY:Mid-Week Wednesday
DESCRIPTION:There is something for everyone on Wednesday evenings. Awana Clubs are for ages 3 through 5th grade and meet in the Education wing. HPC Students\, grades 6th through 12th gather at the Point. And adults meet in the Parlor for Bible study and prayer.
URL:http://hpcnac.org/event/mid-week-wednesday-29/
END:VEVENT
BEGIN:VEVENT
DTSTART;TZID=America/Chicago:20260118T103000
DTEND;TZID=America/Chicago:20260118T120000
DTSTAMP:20260420T235504
CREATED:20260113T160158Z
LAST-MODIFIED:20260113T160203Z
UID:11478-1768732200-1768737600@hpcnac.org
SUMMARY:The Erwins in Concert
DESCRIPTION:This is a Southern gospel group from Edgewood\, TX who have won a Dove award and had a Grammy nomination. The public is invited to come here Keith\, Kody\, Kris\, and Katie Erwin share the gospel through song. Following the concert\, their father\, Dennis Erwin will present a message.  A love offering will be received to help further their ministry.
URL:http://hpcnac.org/event/the-erwins-in-concert-2/
END:VEVENT
BEGIN:VEVENT
DTSTART;TZID=America/Chicago:20260121T183000
DTEND;TZID=America/Chicago:20260121T200000
DTSTAMP:20260420T235504
CREATED:20250729T144617Z
LAST-MODIFIED:20250729T144618Z
UID:11430-1769020200-1769025600@hpcnac.org
SUMMARY:Mid-Week Wednesday
DESCRIPTION:There is something for everyone on Wednesday evenings. Awana Clubs are for ages 3 through 5th grade and meet in the Education wing. HPC Students\, grades 6th through 12th gather at the Point. And adults meet in the Parlor for Bible study and prayer.
URL:http://hpcnac.org/event/mid-week-wednesday-30/
END:VEVENT
BEGIN:VEVENT
DTSTART;TZID=America/Chicago:20260125T091500
DTEND;TZID=America/Chicago:20260125T113000
DTSTAMP:20260420T235504
CREATED:20260113T155628Z
LAST-MODIFIED:20260122T204016Z
UID:11475-1769332500-1769340600@hpcnac.org
SUMMARY:Sunday Worship - CANCELLED
DESCRIPTION:Sunday worship is cancelled due to the bad weather forecast.  Stay home and stay safe.
URL:http://hpcnac.org/event/11475/
END:VEVENT
BEGIN:VEVENT
DTSTART;TZID=America/Chicago:20260128T183000
DTEND;TZID=America/Chicago:20260128T200000
DTSTAMP:20260420T235504
CREATED:20250729T144646Z
LAST-MODIFIED:20250729T144647Z
UID:11432-1769625000-1769630400@hpcnac.org
SUMMARY:Mid-Week Wednesday
DESCRIPTION:There is something for everyone on Wednesday evenings. Awana Clubs are for ages 3 through 5th grade and meet in the Education wing. HPC Students\, grades 6th through 12th gather at the Point. And adults meet in the Parlor for Bible study and prayer.
URL:http://hpcnac.org/event/mid-week-wednesday-31/
END:VEVENT
END:VCALENDAR