BEGIN:VCALENDAR
VERSION:2.0
PRODID:-//Harvest Point Church - ECPv6.15.20//NONSGML v1.0//EN
CALSCALE:GREGORIAN
METHOD:PUBLISH
X-WR-CALNAME:Harvest Point Church
X-ORIGINAL-URL:http://hpcnac.org
X-WR-CALDESC:Events for Harvest Point Church
REFRESH-INTERVAL;VALUE=DURATION:PT1H
X-Robots-Tag:noindex
X-PUBLISHED-TTL:PT1H
BEGIN:VTIMEZONE
TZID:America/Chicago
BEGIN:DAYLIGHT
TZOFFSETFROM:-0600
TZOFFSETTO:-0500
TZNAME:CDT
DTSTART:20240310T080000
END:DAYLIGHT
BEGIN:STANDARD
TZOFFSETFROM:-0500
TZOFFSETTO:-0600
TZNAME:CST
DTSTART:20241103T070000
END:STANDARD
BEGIN:DAYLIGHT
TZOFFSETFROM:-0600
TZOFFSETTO:-0500
TZNAME:CDT
DTSTART:20250309T080000
END:DAYLIGHT
BEGIN:STANDARD
TZOFFSETFROM:-0500
TZOFFSETTO:-0600
TZNAME:CST
DTSTART:20251102T070000
END:STANDARD
BEGIN:DAYLIGHT
TZOFFSETFROM:-0600
TZOFFSETTO:-0500
TZNAME:CDT
DTSTART:20260308T080000
END:DAYLIGHT
BEGIN:STANDARD
TZOFFSETFROM:-0500
TZOFFSETTO:-0600
TZNAME:CST
DTSTART:20261101T070000
END:STANDARD
END:VTIMEZONE
BEGIN:VEVENT
DTSTART;TZID=America/Chicago:20251001T183000
DTEND;TZID=America/Chicago:20251001T200000
DTSTAMP:20260421T044513
CREATED:20250729T143909Z
LAST-MODIFIED:20250729T143911Z
UID:11406-1759343400-1759348800@hpcnac.org
SUMMARY:Mid-Week Wednesday
DESCRIPTION:There is something for everyone on Wednesday evenings. Awana Clubs are for ages 3 through 5th grade and meet in the Education wing. HPC Students\, grades 6th through 12th gather at the Point. And adults meet in the Parlor for Bible study and prayer.
URL:http://hpcnac.org/event/mid-week-wednesday-18/
END:VEVENT
BEGIN:VEVENT
DTSTART;TZID=America/Chicago:20251005T091500
DTEND;TZID=America/Chicago:20251005T113000
DTSTAMP:20260421T044513
CREATED:20250618T142757Z
LAST-MODIFIED:20250618T142758Z
UID:11340-1759655700-1759663800@hpcnac.org
SUMMARY:Sunday Worship
DESCRIPTION:Sundays start with Sunday school classes at 9:15 AM followed by corporate worship at 10:30.  After our time of praise worship\, children ages 4 through 4th grade are dismissed to Children’s Chapel for a Bible lesson taught on their level.
URL:http://hpcnac.org/event/sunday-worship-67/
END:VEVENT
BEGIN:VEVENT
DTSTART;TZID=America/Chicago:20251005T183000
DTEND;TZID=America/Chicago:20251005T193000
DTSTAMP:20260421T044513
CREATED:20250618T140731Z
LAST-MODIFIED:20250618T140732Z
UID:11296-1759689000-1759692600@hpcnac.org
SUMMARY:Experiencing God
DESCRIPTION:Bible study on Knowing and Doing the will of God
URL:http://hpcnac.org/event/experiencing-god-9/
END:VEVENT
BEGIN:VEVENT
DTSTART;TZID=America/Chicago:20251008T183000
DTEND;TZID=America/Chicago:20251008T200000
DTSTAMP:20260421T044513
CREATED:20250729T143946Z
LAST-MODIFIED:20250729T143948Z
UID:11408-1759948200-1759953600@hpcnac.org
SUMMARY:Mid-Week Wednesday
DESCRIPTION:There is something for everyone on Wednesday evenings. Awana Clubs are for ages 3 through 5th grade and meet in the Education wing. HPC Students\, grades 6th through 12th gather at the Point. And adults meet in the Parlor for Bible study and prayer.
URL:http://hpcnac.org/event/mid-week-wednesday-19/
END:VEVENT
BEGIN:VEVENT
DTSTART;TZID=America/Chicago:20251012T091500
DTEND;TZID=America/Chicago:20251012T113000
DTSTAMP:20260421T044513
CREATED:20250618T142826Z
LAST-MODIFIED:20250618T142827Z
UID:11342-1760260500-1760268600@hpcnac.org
SUMMARY:Sunday Worship
DESCRIPTION:Sundays start with Sunday school classes at 9:15 AM followed by corporate worship at 10:30.  After our time of praise worship\, children ages 4 through 4th grade are dismissed to Children’s Chapel for a Bible lesson taught on their level.
URL:http://hpcnac.org/event/sunday-worship-68/
END:VEVENT
BEGIN:VEVENT
DTSTART;TZID=America/Chicago:20251015T183000
DTEND;TZID=America/Chicago:20251015T200000
DTSTAMP:20260421T044513
CREATED:20250729T144020Z
LAST-MODIFIED:20250729T144021Z
UID:11410-1760553000-1760558400@hpcnac.org
SUMMARY:Mid-Week Wednesday
DESCRIPTION:There is something for everyone on Wednesday evenings. Awana Clubs are for ages 3 through 5th grade and meet in the Education wing. HPC Students\, grades 6th through 12th gather at the Point. And adults meet in the Parlor for Bible study and prayer.
URL:http://hpcnac.org/event/mid-week-wednesday-20/
END:VEVENT
BEGIN:VEVENT
DTSTART;TZID=America/Chicago:20251019T091500
DTEND;TZID=America/Chicago:20251019T113000
DTSTAMP:20260421T044513
CREATED:20250618T142900Z
LAST-MODIFIED:20250618T142901Z
UID:11344-1760865300-1760873400@hpcnac.org
SUMMARY:Sunday Worship
DESCRIPTION:Sundays start with Sunday school classes at 9:15 AM followed by corporate worship at 10:30.  After our time of praise worship\, children ages 4 through 4th grade are dismissed to Children’s Chapel for a Bible lesson taught on their level.
URL:http://hpcnac.org/event/sunday-worship-69/
END:VEVENT
BEGIN:VEVENT
DTSTART;TZID=America/Chicago:20251019T183000
DTEND;TZID=America/Chicago:20251019T193000
DTSTAMP:20260421T044513
CREATED:20250618T140804Z
LAST-MODIFIED:20250618T140805Z
UID:11298-1760898600-1760902200@hpcnac.org
SUMMARY:Experiencing God
DESCRIPTION:Bible study on Knowing and Doing the will of God
URL:http://hpcnac.org/event/experiencing-god-10/
END:VEVENT
BEGIN:VEVENT
DTSTART;TZID=America/Chicago:20251022T183000
DTEND;TZID=America/Chicago:20251022T200000
DTSTAMP:20260421T044513
CREATED:20250729T144056Z
LAST-MODIFIED:20250729T144057Z
UID:11412-1761157800-1761163200@hpcnac.org
SUMMARY:Mid-Week Wednesday
DESCRIPTION:There is something for everyone on Wednesday evenings. Awana Clubs are for ages 3 through 5th grade and meet in the Education wing. HPC Students\, grades 6th through 12th gather at the Point. And adults meet in the Parlor for Bible study and prayer.
URL:http://hpcnac.org/event/mid-week-wednesday-21/
END:VEVENT
BEGIN:VEVENT
DTSTART;TZID=America/Chicago:20251026T091500
DTEND;TZID=America/Chicago:20251026T113000
DTSTAMP:20260421T044513
CREATED:20250618T142932Z
LAST-MODIFIED:20250618T142933Z
UID:11346-1761470100-1761478200@hpcnac.org
SUMMARY:Sunday Worship
DESCRIPTION:Sundays start with Sunday school classes at 9:15 AM followed by corporate worship at 10:30.  After our time of praise worship\, children ages 4 through 4th grade are dismissed to Children’s Chapel for a Bible lesson taught on their level.
URL:http://hpcnac.org/event/sunday-worship-70/
END:VEVENT
BEGIN:VEVENT
DTSTART;TZID=America/Chicago:20251029T183000
DTEND;TZID=America/Chicago:20251029T200000
DTSTAMP:20260421T044513
CREATED:20250729T145813Z
LAST-MODIFIED:20250729T145814Z
UID:11461-1761762600-1761768000@hpcnac.org
SUMMARY:Fall Festival
DESCRIPTION:Mid-week activities are dismissed as we have our annual trunk-or treat event.  Activities take place at 2712 South Street in front of the youth building.  There will be games\, food\, bounce houses\, and lots of candy for this family friendly event.
URL:http://hpcnac.org/event/fall-festival/
END:VEVENT
END:VCALENDAR