BEGIN:VCALENDAR
VERSION:2.0
PRODID:-//Harvest Point Church - ECPv6.15.20//NONSGML v1.0//EN
CALSCALE:GREGORIAN
METHOD:PUBLISH
X-WR-CALNAME:Harvest Point Church
X-ORIGINAL-URL:http://hpcnac.org
X-WR-CALDESC:Events for Harvest Point Church
REFRESH-INTERVAL;VALUE=DURATION:PT1H
X-Robots-Tag:noindex
X-PUBLISHED-TTL:PT1H
BEGIN:VTIMEZONE
TZID:America/Chicago
BEGIN:DAYLIGHT
TZOFFSETFROM:-0600
TZOFFSETTO:-0500
TZNAME:CDT
DTSTART:20240310T080000
END:DAYLIGHT
BEGIN:STANDARD
TZOFFSETFROM:-0500
TZOFFSETTO:-0600
TZNAME:CST
DTSTART:20241103T070000
END:STANDARD
BEGIN:DAYLIGHT
TZOFFSETFROM:-0600
TZOFFSETTO:-0500
TZNAME:CDT
DTSTART:20250309T080000
END:DAYLIGHT
BEGIN:STANDARD
TZOFFSETFROM:-0500
TZOFFSETTO:-0600
TZNAME:CST
DTSTART:20251102T070000
END:STANDARD
BEGIN:DAYLIGHT
TZOFFSETFROM:-0600
TZOFFSETTO:-0500
TZNAME:CDT
DTSTART:20260308T080000
END:DAYLIGHT
BEGIN:STANDARD
TZOFFSETFROM:-0500
TZOFFSETTO:-0600
TZNAME:CST
DTSTART:20261101T070000
END:STANDARD
END:VTIMEZONE
BEGIN:VEVENT
DTSTART;TZID=America/Chicago:20250803T091500
DTEND;TZID=America/Chicago:20250803T113000
DTSTAMP:20260421T075653
CREATED:20250618T142110Z
LAST-MODIFIED:20250618T143803Z
UID:11321-1754212500-1754220600@hpcnac.org
SUMMARY:Sunday Worship & Lord's Supper
DESCRIPTION:Sundays start with Sunday school classes at 9:15 AM followed by corporate worship at 10:30.  As part of our morning worship we will be observing the Lord’s Supper. Children’s Chapel is dismissed so volunteers can participate. 
URL:http://hpcnac.org/event/sunday-worship-58/
END:VEVENT
BEGIN:VEVENT
DTSTART;TZID=America/Chicago:20250809T180000
DTEND;TZID=America/Chicago:20250809T233000
DTSTAMP:20260421T075653
CREATED:20250618T144357Z
LAST-MODIFIED:20250618T144358Z
UID:11373-1754762400-1754782200@hpcnac.org
SUMMARY:HPC Student Movin' up Lock-in
DESCRIPTION:Incoming 6th graders will join the HPC students for an evening of activities and will spend the night at The Point.  Bring sleeping bags\, towels and toiletries for showering and Sunday clothes.
URL:http://hpcnac.org/event/hpc-student-movin-up-lock-in/
END:VEVENT
BEGIN:VEVENT
DTSTART;TZID=America/Chicago:20250810T091500
DTEND;TZID=America/Chicago:20250810T113000
DTSTAMP:20260421T075653
CREATED:20250618T142154Z
LAST-MODIFIED:20250618T142155Z
UID:11323-1754817300-1754825400@hpcnac.org
SUMMARY:Sunday Worship
DESCRIPTION:Sundays start with Sunday school classes at 9:15 AM followed by corporate worship at 10:30.  After our time of praise worship\, children ages 4 through 4th grade are dismissed to Children’s Chapel for a Bible lesson taught on their level.
URL:http://hpcnac.org/event/sunday-worship-59/
END:VEVENT
BEGIN:VEVENT
DTSTART;TZID=America/Chicago:20250813T183000
DTEND;TZID=America/Chicago:20250813T193000
DTSTAMP:20260421T075653
CREATED:20250618T140107Z
LAST-MODIFIED:20250618T140225Z
UID:11286-1755109800-1755113400@hpcnac.org
SUMMARY:Experiencing God
DESCRIPTION:Bible study on Knowing and Doing the will of God
URL:http://hpcnac.org/event/experiencing-god-5/
END:VEVENT
BEGIN:VEVENT
DTSTART;TZID=America/Chicago:20250817T091500
DTEND;TZID=America/Chicago:20250817T113000
DTSTAMP:20260421T075653
CREATED:20250618T142223Z
LAST-MODIFIED:20250618T142224Z
UID:11325-1755422100-1755430200@hpcnac.org
SUMMARY:Sunday Worship
DESCRIPTION:Sundays start with Sunday school classes at 9:15 AM followed by corporate worship at 10:30.  After our time of praise worship\, children ages 4 through 4th grade are dismissed to Children’s Chapel for a Bible lesson taught on their level.
URL:http://hpcnac.org/event/sunday-worship-60/
END:VEVENT
BEGIN:VEVENT
DTSTART;TZID=America/Chicago:20250820T183000
DTEND;TZID=America/Chicago:20250820T200000
DTSTAMP:20260421T075653
CREATED:20250729T143150Z
LAST-MODIFIED:20250729T143152Z
UID:11391-1755714600-1755720000@hpcnac.org
SUMMARY:Awana Parent Orientation
DESCRIPTION:Parents\, come and bring your children\, ages 3 through 5th grade.  We will register for Awana clubs\, give out books and uniforms\, and discuss plans for our upcoming year.
URL:http://hpcnac.org/event/awana-parent-orientation/
END:VEVENT
BEGIN:VEVENT
DTSTART;TZID=America/Chicago:20250820T183000
DTEND;TZID=America/Chicago:20250820T200000
DTSTAMP:20260421T075653
CREATED:20250729T143317Z
LAST-MODIFIED:20250729T143319Z
UID:11393-1755714600-1755720000@hpcnac.org
SUMMARY:HPC Student Welcome Back
DESCRIPTION:Students in grades 6 through 12 will gather at The Point for an evening of fun and games.
URL:http://hpcnac.org/event/hpc-student-welcome-back/
END:VEVENT
BEGIN:VEVENT
DTSTART;TZID=America/Chicago:20250824T091500
DTEND;TZID=America/Chicago:20250824T113000
DTSTAMP:20260421T075653
CREATED:20250618T142254Z
LAST-MODIFIED:20250618T142255Z
UID:11327-1756026900-1756035000@hpcnac.org
SUMMARY:Sunday Worship
DESCRIPTION:Sundays start with Sunday school classes at 9:15 AM followed by corporate worship at 10:30.  After our time of praise worship\, children ages 4 through 4th grade are dismissed to Children’s Chapel for a Bible lesson taught on their level.
URL:http://hpcnac.org/event/sunday-worship-61/
END:VEVENT
BEGIN:VEVENT
DTSTART;TZID=America/Chicago:20250824T183000
DTEND;TZID=America/Chicago:20250824T193000
DTSTAMP:20260421T075653
CREATED:20250618T140552Z
LAST-MODIFIED:20250618T140553Z
UID:11290-1756060200-1756063800@hpcnac.org
SUMMARY:Experiencing God
DESCRIPTION:Bible study on Knowing and Doing the will of God
URL:http://hpcnac.org/event/experiencing-god-6/
END:VEVENT
BEGIN:VEVENT
DTSTART;TZID=America/Chicago:20250827T183000
DTEND;TZID=America/Chicago:20250827T200000
DTSTAMP:20260421T075653
CREATED:20250729T143352Z
LAST-MODIFIED:20250729T143520Z
UID:11395-1756319400-1756324800@hpcnac.org
SUMMARY:Mid-Week Wednesdays
DESCRIPTION:There is something for everyone on Wednesday evenings. Awana Clubs are for ages 3 through 5th grade and meet in the Education wing. HPC Students\, grades 6th through 12th gather at the Point. And adults meet in the Parlor for Bible study and prayer.
URL:http://hpcnac.org/event/mid-week-wednesdays-22/
END:VEVENT
BEGIN:VEVENT
DTSTART;TZID=America/Chicago:20250831T091500
DTEND;TZID=America/Chicago:20250831T113000
DTSTAMP:20260421T075653
CREATED:20250618T142326Z
LAST-MODIFIED:20250618T142327Z
UID:11329-1756631700-1756639800@hpcnac.org
SUMMARY:Sunday Worship
DESCRIPTION:Sundays start with Sunday school classes at 9:15 AM followed by corporate worship at 10:30.  After our time of praise worship\, children ages 4 through 4th grade are dismissed to Children’s Chapel for a Bible lesson taught on their level.
URL:http://hpcnac.org/event/sunday-worship-62/
END:VEVENT
END:VCALENDAR